BEGIN:VCALENDAR
VERSION:2.0
PRODID:-//Mein Solschen - ECPv6.15.20//NONSGML v1.0//EN
CALSCALE:GREGORIAN
METHOD:PUBLISH
X-WR-CALNAME:Mein Solschen
X-ORIGINAL-URL:https://mein-solschen.de
X-WR-CALDESC:Veranstaltungen für Mein Solschen
REFRESH-INTERVAL;VALUE=DURATION:PT1H
X-Robots-Tag:noindex
X-PUBLISHED-TTL:PT1H
BEGIN:VTIMEZONE
TZID:Europe/Berlin
BEGIN:DAYLIGHT
TZOFFSETFROM:+0100
TZOFFSETTO:+0200
TZNAME:CEST
DTSTART:20230326T010000
END:DAYLIGHT
BEGIN:STANDARD
TZOFFSETFROM:+0200
TZOFFSETTO:+0100
TZNAME:CET
DTSTART:20231029T010000
END:STANDARD
BEGIN:DAYLIGHT
TZOFFSETFROM:+0100
TZOFFSETTO:+0200
TZNAME:CEST
DTSTART:20240331T010000
END:DAYLIGHT
BEGIN:STANDARD
TZOFFSETFROM:+0200
TZOFFSETTO:+0100
TZNAME:CET
DTSTART:20241027T010000
END:STANDARD
BEGIN:DAYLIGHT
TZOFFSETFROM:+0100
TZOFFSETTO:+0200
TZNAME:CEST
DTSTART:20250330T010000
END:DAYLIGHT
BEGIN:STANDARD
TZOFFSETFROM:+0200
TZOFFSETTO:+0100
TZNAME:CET
DTSTART:20251026T010000
END:STANDARD
END:VTIMEZONE
BEGIN:VEVENT
DTSTART;TZID=Europe/Berlin:20240819T190000
DTEND;TZID=Europe/Berlin:20240819T210000
DTSTAMP:20260421T125353
CREATED:20240807T115137Z
LAST-MODIFIED:20240807T115235Z
UID:4047-1724094000-1724101200@mein-solschen.de
SUMMARY:Infoveranstaltung zur Kneipengenossenschaft
DESCRIPTION:Nach über 30 Jahren macht das Gastwirtsehepaar Rubel schon sehr bald Feierabend: Während Birgit & Stefan in den verdienten Ruhestand treten\, wollen wir\, dass es in der Kastanie in Solschen weiter geht. \nDafür benötigen wir Euch und uns\, um die letzte Gastwirtschaft in unserem Ort zu halten: Wir wollen eine Genossenschaft gründen\, die die Immobilie aufkauft und an einen neuen Gastronom verpachtet.  \nWir freuen uns auf die nächste Infoveranstaltung mit Euch am 19. August ab 19.00 Uhr in der Kastanie. \nWeitere Infos findet Ihr schon jetzt auf kneipengenosse.de.
URL:https://mein-solschen.de/termin/infoveranstaltung-zur-kneipengenossenschaft/
LOCATION:Gasthaus „Zur Kastanie“\, Hauptstraße 1\, Ilsede\, Niedersachsen\, 31241\, Deutschland
CATEGORIES:Gemeinschaft & Soziales
ATTACH;FMTTYPE=image/png:https://mein-solschen.de/upload/uploads/2024/08/Kneipengenosse.png
END:VEVENT
END:VCALENDAR