BEGIN:VCALENDAR
VERSION:2.0
PRODID:-//Mein Solschen - ECPv6.15.20//NONSGML v1.0//EN
CALSCALE:GREGORIAN
METHOD:PUBLISH
X-ORIGINAL-URL:https://mein-solschen.de
X-WR-CALDESC:Veranstaltungen für Mein Solschen
REFRESH-INTERVAL;VALUE=DURATION:PT1H
X-Robots-Tag:noindex
X-PUBLISHED-TTL:PT1H
BEGIN:VTIMEZONE
TZID:Europe/Berlin
BEGIN:DAYLIGHT
TZOFFSETFROM:+0100
TZOFFSETTO:+0200
TZNAME:CEST
DTSTART:20220327T010000
END:DAYLIGHT
BEGIN:STANDARD
TZOFFSETFROM:+0200
TZOFFSETTO:+0100
TZNAME:CET
DTSTART:20221030T010000
END:STANDARD
BEGIN:DAYLIGHT
TZOFFSETFROM:+0100
TZOFFSETTO:+0200
TZNAME:CEST
DTSTART:20230326T010000
END:DAYLIGHT
BEGIN:STANDARD
TZOFFSETFROM:+0200
TZOFFSETTO:+0100
TZNAME:CET
DTSTART:20231029T010000
END:STANDARD
BEGIN:DAYLIGHT
TZOFFSETFROM:+0100
TZOFFSETTO:+0200
TZNAME:CEST
DTSTART:20240331T010000
END:DAYLIGHT
BEGIN:STANDARD
TZOFFSETFROM:+0200
TZOFFSETTO:+0100
TZNAME:CET
DTSTART:20241027T010000
END:STANDARD
END:VTIMEZONE
BEGIN:VEVENT
DTSTART;TZID=Europe/Berlin:20231112T170000
DTEND;TZID=Europe/Berlin:20231112T170000
DTSTAMP:20260420T180702
CREATED:20230115T162232Z
LAST-MODIFIED:20231112T135028Z
UID:3603-1699808400-1699808400@mein-solschen.de
SUMMARY:Benefizkonzert mit Jens-Peter Enk
DESCRIPTION:Kirchenmusikdirektor und Virtuose Jens-Peter Enk ist in diesem Jahr ein zweites Mal in St. Pancratii: Gemeinsam mit Mitwirkenden aus Wuppertal zeigt der Künstler einen großen Querschnitt seines musikalischen Könnens. \nDer gesamte Spendenerlös kommt der Kirchenrenovierung zu Gute. \nJens-Peter Enk November 2023
URL:https://mein-solschen.de/termin/benefizkonzert-november/
LOCATION:Sankt Pancratii Kirche\, Hauptstraße 8\, Ilsede\, Niedersachsen\, 31241\, Deutschland
CATEGORIES:Kultur & Konzerte
ATTACH;FMTTYPE=image/png:https://mein-solschen.de/upload/uploads/2023/11/Titelbild_Konzert_Enk.png
END:VEVENT
END:VCALENDAR