BEGIN:VCALENDAR
VERSION:2.0
PRODID:-//Mein Solschen - ECPv6.15.20//NONSGML v1.0//EN
CALSCALE:GREGORIAN
METHOD:PUBLISH
X-ORIGINAL-URL:https://mein-solschen.de
X-WR-CALDESC:Veranstaltungen für Mein Solschen
REFRESH-INTERVAL;VALUE=DURATION:PT1H
X-Robots-Tag:noindex
X-PUBLISHED-TTL:PT1H
BEGIN:VTIMEZONE
TZID:Europe/Berlin
BEGIN:DAYLIGHT
TZOFFSETFROM:+0100
TZOFFSETTO:+0200
TZNAME:CEST
DTSTART:20210328T010000
END:DAYLIGHT
BEGIN:STANDARD
TZOFFSETFROM:+0200
TZOFFSETTO:+0100
TZNAME:CET
DTSTART:20211031T010000
END:STANDARD
BEGIN:DAYLIGHT
TZOFFSETFROM:+0100
TZOFFSETTO:+0200
TZNAME:CEST
DTSTART:20220327T010000
END:DAYLIGHT
BEGIN:STANDARD
TZOFFSETFROM:+0200
TZOFFSETTO:+0100
TZNAME:CET
DTSTART:20221030T010000
END:STANDARD
BEGIN:DAYLIGHT
TZOFFSETFROM:+0100
TZOFFSETTO:+0200
TZNAME:CEST
DTSTART:20230326T010000
END:DAYLIGHT
BEGIN:STANDARD
TZOFFSETFROM:+0200
TZOFFSETTO:+0100
TZNAME:CET
DTSTART:20231029T010000
END:STANDARD
END:VTIMEZONE
BEGIN:VEVENT
DTSTART;TZID=Europe/Berlin:20221104T193000
DTEND;TZID=Europe/Berlin:20221104T193000
DTSTAMP:20260420T080724
CREATED:20221027T182817Z
LAST-MODIFIED:20221027T182817Z
UID:3423-1667590200-1667590200@mein-solschen.de
SUMMARY:Filmabend
DESCRIPTION:Der Filmabend findet am 4. November um 19:30 Uhr statt\, Einlass ab 19.00 Uhr. Der Kirchenvorstand überlegt\, ob wegen der Energiekosten den Film im Gemeindesaal zu zeigen.
URL:https://mein-solschen.de/termin/filmabend/
LOCATION:Sankt Pancratii Kirche\, Hauptstraße 8\, Ilsede\, Niedersachsen\, 31241\, Deutschland
CATEGORIES:Familie und Kinder
ATTACH;FMTTYPE=image/png:https://mein-solschen.de/upload/uploads/2022/10/Kirchenveranstaltung.png
END:VEVENT
END:VCALENDAR