BEGIN:VCALENDAR
VERSION:2.0
PRODID:-//Mein Solschen - ECPv6.15.20//NONSGML v1.0//EN
CALSCALE:GREGORIAN
METHOD:PUBLISH
X-WR-CALNAME:Mein Solschen
X-ORIGINAL-URL:https://mein-solschen.de
X-WR-CALDESC:Veranstaltungen für Mein Solschen
REFRESH-INTERVAL;VALUE=DURATION:PT1H
X-Robots-Tag:noindex
X-PUBLISHED-TTL:PT1H
BEGIN:VTIMEZONE
TZID:Europe/Berlin
BEGIN:DAYLIGHT
TZOFFSETFROM:+0100
TZOFFSETTO:+0200
TZNAME:CEST
DTSTART:20250330T010000
END:DAYLIGHT
BEGIN:STANDARD
TZOFFSETFROM:+0200
TZOFFSETTO:+0100
TZNAME:CET
DTSTART:20251026T010000
END:STANDARD
BEGIN:DAYLIGHT
TZOFFSETFROM:+0100
TZOFFSETTO:+0200
TZNAME:CEST
DTSTART:20260329T010000
END:DAYLIGHT
BEGIN:STANDARD
TZOFFSETFROM:+0200
TZOFFSETTO:+0100
TZNAME:CET
DTSTART:20261025T010000
END:STANDARD
BEGIN:DAYLIGHT
TZOFFSETFROM:+0100
TZOFFSETTO:+0200
TZNAME:CEST
DTSTART:20270328T010000
END:DAYLIGHT
BEGIN:STANDARD
TZOFFSETFROM:+0200
TZOFFSETTO:+0100
TZNAME:CET
DTSTART:20271031T010000
END:STANDARD
END:VTIMEZONE
BEGIN:VEVENT
DTSTART;TZID=Europe/Berlin:20260815T170000
DTEND;TZID=Europe/Berlin:20260815T170000
DTSTAMP:20260424T062317
CREATED:20260209T200708Z
LAST-MODIFIED:20260209T203515Z
UID:4380-1786813200-1786813200@mein-solschen.de
SUMMARY:Grillfest
DESCRIPTION:
URL:https://mein-solschen.de/termin/grillfest/
LOCATION:Bei Hildegard & Uwe
CATEGORIES:Feste und Feiern
END:VEVENT
BEGIN:VEVENT
DTSTART;TZID=Europe/Berlin:20260816T100000
DTEND;TZID=Europe/Berlin:20260816T100000
DTSTAMP:20260424T062317
CREATED:20260317T184927Z
LAST-MODIFIED:20260317T184937Z
UID:4459-1786874400-1786874400@mein-solschen.de
SUMMARY:Glaubensanhänger am Freizeitplatz
DESCRIPTION:
URL:https://mein-solschen.de/termin/glaubensanhaenger-am-freizeitplatz/
LOCATION:Freizeitplatz am Lahwald
CATEGORIES:Gemeinschaft & Soziales,Kultur & Konzerte
END:VEVENT
BEGIN:VEVENT
DTSTART;TZID=Europe/Berlin:20260821T190000
DTEND;TZID=Europe/Berlin:20260821T190000
DTSTAMP:20260424T062317
CREATED:20260209T200723Z
LAST-MODIFIED:20260209T203426Z
UID:4381-1787338800-1787338800@mein-solschen.de
SUMMARY:Wein und Worte
DESCRIPTION:
URL:https://mein-solschen.de/termin/wein-und-worte-3/
LOCATION:Pfarrgarten\, Solschener Str. 33\, Solschen\, 31241\, Deutschland
CATEGORIES:Kultur & Konzerte
END:VEVENT
BEGIN:VEVENT
DTSTART;TZID=Europe/Berlin:20260825T190000
DTEND;TZID=Europe/Berlin:20260825T190000
DTSTAMP:20260424T062317
CREATED:20260209T200723Z
LAST-MODIFIED:20260209T203359Z
UID:4382-1787684400-1787684400@mein-solschen.de
SUMMARY:Ortsratssitzung
DESCRIPTION:
URL:https://mein-solschen.de/termin/ortsratssitzung-18/
LOCATION:Begegnungsstätte\, Rotdornstraße 32\, Solschen\, Niedersachsen\, 31241\, Deutschland
CATEGORIES:Ortsrat
ATTACH;FMTTYPE=image/png:https://mein-solschen.de/upload/uploads/2023/01/Titelbild-Ortsratssitzung.png
END:VEVENT
BEGIN:VEVENT
DTSTART;VALUE=DATE:20260829
DTEND;VALUE=DATE:20260830
DTSTAMP:20260424T062317
CREATED:20260209T200723Z
LAST-MODIFIED:20260209T203246Z
UID:4383-1787961600-1788047999@mein-solschen.de
SUMMARY:Jubiläumsspiele (150 Jahre)
DESCRIPTION:
URL:https://mein-solschen.de/termin/jubilaeumsspiele-150-jahre/
LOCATION:Niedersachsen
CATEGORIES:Feste und Feiern
END:VEVENT
BEGIN:VEVENT
DTSTART;VALUE=DATE:20260829
DTEND;VALUE=DATE:20260830
DTSTAMP:20260424T062317
CREATED:20260209T200723Z
LAST-MODIFIED:20260209T203317Z
UID:4384-1787961600-1788047999@mein-solschen.de
SUMMARY:Jubiläumsparty (150 Jahre)
DESCRIPTION:
URL:https://mein-solschen.de/termin/jubilaeumsparty-150-jahre/
LOCATION:Niedersachsen
CATEGORIES:Feste und Feiern,Sportliches
END:VEVENT
BEGIN:VEVENT
DTSTART;TZID=Europe/Berlin:20260912T143000
DTEND;TZID=Europe/Berlin:20260912T143000
DTSTAMP:20260424T062317
CREATED:20260209T200723Z
LAST-MODIFIED:20260209T203211Z
UID:4385-1789223400-1789223400@mein-solschen.de
SUMMARY:Erste Hilfe für Kinder
DESCRIPTION:
URL:https://mein-solschen.de/termin/erste-hilfe-fuer-kinder/
LOCATION:Begegnungsstätte\, Rotdornstraße 32\, Solschen\, Niedersachsen\, 31241\, Deutschland
CATEGORIES:Familie und Kinder,Gemeinschaft & Soziales
END:VEVENT
BEGIN:VEVENT
DTSTART;TZID=Europe/Berlin:20260919T100000
DTEND;TZID=Europe/Berlin:20260919T100000
DTSTAMP:20260424T062317
CREATED:20260209T200738Z
LAST-MODIFIED:20260209T203107Z
UID:4386-1789812000-1789812000@mein-solschen.de
SUMMARY:60 Jahre AG Kultur
DESCRIPTION:
URL:https://mein-solschen.de/termin/60-jahre-ag-kultur/
LOCATION:Niedersachsen
CATEGORIES:Feste und Feiern
END:VEVENT
BEGIN:VEVENT
DTSTART;TZID=Europe/Berlin:20261010T143000
DTEND;TZID=Europe/Berlin:20261010T143000
DTSTAMP:20260424T062317
CREATED:20260209T200738Z
LAST-MODIFIED:20260209T203030Z
UID:4387-1791642600-1791642600@mein-solschen.de
SUMMARY:Stop-Motion-Filme drehen
DESCRIPTION:
URL:https://mein-solschen.de/termin/stop-motion-filme-drehen/
LOCATION:Begegnungsstätte\, Rotdornstraße 32\, Solschen\, Niedersachsen\, 31241\, Deutschland
CATEGORIES:Familie und Kinder
END:VEVENT
BEGIN:VEVENT
DTSTART;TZID=Europe/Berlin:20261025T150000
DTEND;TZID=Europe/Berlin:20261025T150000
DTSTAMP:20260424T062317
CREATED:20260209T200738Z
LAST-MODIFIED:20260209T203002Z
UID:4388-1792940400-1792940400@mein-solschen.de
SUMMARY:Kaffeeklatsch mit Bingo
DESCRIPTION:
URL:https://mein-solschen.de/termin/kaffeeklatsch-mit-bingo/
LOCATION:Begegnungsstätte\, Rotdornstraße 32\, Solschen\, Niedersachsen\, 31241\, Deutschland
CATEGORIES:Gemeinschaft & Soziales
END:VEVENT
BEGIN:VEVENT
DTSTART;TZID=Europe/Berlin:20261028T160000
DTEND;TZID=Europe/Berlin:20261028T193000
DTSTAMP:20260424T062317
CREATED:20260209T200738Z
LAST-MODIFIED:20260209T202926Z
UID:4389-1793203200-1793215800@mein-solschen.de
SUMMARY:Blutspende
DESCRIPTION:
URL:https://mein-solschen.de/termin/blutspende-16/
LOCATION:Gemeindesaal Pfarrhof\, Pfarrgasse 1\, Ilsede\, Niedersachsen\, 31241\, Deutschland
CATEGORIES:Gemeinschaft & Soziales
ATTACH;FMTTYPE=image/png:https://mein-solschen.de/upload/uploads/2023/01/DRK-Blutspende.png
END:VEVENT
BEGIN:VEVENT
DTSTART;TZID=Europe/Berlin:20261113T190000
DTEND;TZID=Europe/Berlin:20261113T190000
DTSTAMP:20260424T062317
CREATED:20260209T200738Z
LAST-MODIFIED:20260209T202844Z
UID:4390-1794596400-1794596400@mein-solschen.de
SUMMARY:Martiniessen
DESCRIPTION:
URL:https://mein-solschen.de/termin/martiniessen-3/
LOCATION:Gemeindesaal Pfarrhof\, Pfarrgasse 1\, Ilsede\, Niedersachsen\, 31241\, Deutschland
CATEGORIES:Gemeinschaft & Soziales
END:VEVENT
BEGIN:VEVENT
DTSTART;TZID=Europe/Berlin:20261121T143000
DTEND;TZID=Europe/Berlin:20261121T143000
DTSTAMP:20260424T062317
CREATED:20260209T200753Z
LAST-MODIFIED:20260209T202804Z
UID:4391-1795271400-1795271400@mein-solschen.de
SUMMARY:Kekse backen mit den Landfrauen
DESCRIPTION:
URL:https://mein-solschen.de/termin/kekse-backen-mit-den-landfrauen-5/
LOCATION:Sankt Pancratii Kirche\, Hauptstraße 8\, Ilsede\, Niedersachsen\, 31241\, Deutschland
CATEGORIES:Familie und Kinder
ATTACH;FMTTYPE=image/png:https://mein-solschen.de/upload/uploads/2022/10/Kekse-backen.png
END:VEVENT
BEGIN:VEVENT
DTSTART;TZID=Europe/Berlin:20261124T190000
DTEND;TZID=Europe/Berlin:20261124T190000
DTSTAMP:20260424T062317
CREATED:20260209T200753Z
LAST-MODIFIED:20260209T202404Z
UID:4392-1795546800-1795546800@mein-solschen.de
SUMMARY:Ortsratssitzung
DESCRIPTION:
URL:https://mein-solschen.de/termin/ortsratssitzung-19/
LOCATION:Begegnungsstätte\, Rotdornstraße 32\, Solschen\, Niedersachsen\, 31241\, Deutschland
CATEGORIES:Ortsrat
ATTACH;FMTTYPE=image/png:https://mein-solschen.de/upload/uploads/2023/01/Titelbild-Ortsratssitzung.png
END:VEVENT
BEGIN:VEVENT
DTSTART;TZID=Europe/Berlin:20261127T193000
DTEND;TZID=Europe/Berlin:20261127T193000
DTSTAMP:20260424T062317
CREATED:20260209T200753Z
LAST-MODIFIED:20260209T202315Z
UID:4393-1795807800-1795807800@mein-solschen.de
SUMMARY:Club „Sol“ - Comedyabend
DESCRIPTION:
URL:https://mein-solschen.de/termin/club-sol-comedyabend-4/
LOCATION:Gemeindesaal Pfarrhof\, Pfarrgasse 1\, Ilsede\, Niedersachsen\, 31241\, Deutschland
CATEGORIES:Kultur & Konzerte
ATTACH;FMTTYPE=image/png:https://mein-solschen.de/upload/uploads/2023/08/Comedyabend.png
END:VEVENT
BEGIN:VEVENT
DTSTART;TZID=Europe/Berlin:20261129T180000
DTEND;TZID=Europe/Berlin:20261129T180000
DTSTAMP:20260424T062317
CREATED:20260209T200753Z
LAST-MODIFIED:20260209T202159Z
UID:4394-1795975200-1795975200@mein-solschen.de
SUMMARY:Lebendiger Advent
DESCRIPTION:
URL:https://mein-solschen.de/termin/lebendiger-advent-11/
LOCATION:Niedersachsen
CATEGORIES:Familie und Kinder,Feste und Feiern
END:VEVENT
BEGIN:VEVENT
DTSTART;TZID=Europe/Berlin:20261206T180000
DTEND;TZID=Europe/Berlin:20261206T180000
DTSTAMP:20260424T062317
CREATED:20260209T200753Z
LAST-MODIFIED:20260209T202149Z
UID:4395-1796580000-1796580000@mein-solschen.de
SUMMARY:Lebendiger Advent
DESCRIPTION:
URL:https://mein-solschen.de/termin/lebendiger-advent-12/
LOCATION:Niedersachsen
CATEGORIES:Familie und Kinder,Feste und Feiern
END:VEVENT
BEGIN:VEVENT
DTSTART;TZID=Europe/Berlin:20261213T180000
DTEND;TZID=Europe/Berlin:20261213T180000
DTSTAMP:20260424T062317
CREATED:20260209T200808Z
LAST-MODIFIED:20260209T202144Z
UID:4396-1797184800-1797184800@mein-solschen.de
SUMMARY:Lebendiger Advent
DESCRIPTION:
URL:https://mein-solschen.de/termin/lebendiger-advent-13/
LOCATION:Niedersachsen
CATEGORIES:Familie und Kinder,Feste und Feiern
END:VEVENT
BEGIN:VEVENT
DTSTART;TZID=Europe/Berlin:20261219T170000
DTEND;TZID=Europe/Berlin:20261219T170000
DTSTAMP:20260424T062317
CREATED:20260209T200808Z
LAST-MODIFIED:20260209T202130Z
UID:4397-1797699600-1797699600@mein-solschen.de
SUMMARY:Weihnachtsfeier
DESCRIPTION:
URL:https://mein-solschen.de/termin/weihnachtsfeier/
LOCATION:Gemeindesaal Pfarrhof\, Pfarrgasse 1\, Ilsede\, Niedersachsen\, 31241\, Deutschland
CATEGORIES:Gemeinschaft & Soziales
END:VEVENT
BEGIN:VEVENT
DTSTART;TZID=Europe/Berlin:20261220T180000
DTEND;TZID=Europe/Berlin:20261220T180000
DTSTAMP:20260424T062317
CREATED:20260209T200808Z
LAST-MODIFIED:20260209T201719Z
UID:4398-1797789600-1797789600@mein-solschen.de
SUMMARY:Lebendiger Advent
DESCRIPTION:
URL:https://mein-solschen.de/termin/lebendiger-advent-14/
LOCATION:Niedersachsen
CATEGORIES:Familie und Kinder,Feste und Feiern
END:VEVENT
END:VCALENDAR